BEGIN:VCALENDAR
VERSION:2.0
PRODID:-//Frankston Brewhouse - ECPv6.15.8//NONSGML v1.0//EN
CALSCALE:GREGORIAN
METHOD:PUBLISH
X-ORIGINAL-URL:https://frankstonbrewhouse.com.au
X-WR-CALDESC:Events for Frankston Brewhouse
REFRESH-INTERVAL;VALUE=DURATION:PT1H
X-Robots-Tag:noindex
X-PUBLISHED-TTL:PT1H
BEGIN:VTIMEZONE
TZID:Australia/Melbourne
BEGIN:STANDARD
TZOFFSETFROM:+1100
TZOFFSETTO:+1000
TZNAME:AEST
DTSTART:20250405T160000
END:STANDARD
BEGIN:DAYLIGHT
TZOFFSETFROM:+1000
TZOFFSETTO:+1100
TZNAME:AEDT
DTSTART:20251004T160000
END:DAYLIGHT
BEGIN:STANDARD
TZOFFSETFROM:+1100
TZOFFSETTO:+1000
TZNAME:AEST
DTSTART:20260404T160000
END:STANDARD
BEGIN:DAYLIGHT
TZOFFSETFROM:+1000
TZOFFSETTO:+1100
TZNAME:AEDT
DTSTART:20261003T160000
END:DAYLIGHT
BEGIN:STANDARD
TZOFFSETFROM:+1100
TZOFFSETTO:+1000
TZNAME:AEST
DTSTART:20270403T160000
END:STANDARD
BEGIN:DAYLIGHT
TZOFFSETFROM:+1000
TZOFFSETTO:+1100
TZNAME:AEDT
DTSTART:20271002T160000
END:DAYLIGHT
END:VTIMEZONE
BEGIN:VEVENT
DTSTART;TZID=Australia/Melbourne:20260417T190000
DTEND;TZID=Australia/Melbourne:20260417T220000
DTSTAMP:20260421T014617
CREATED:20251208T015355Z
LAST-MODIFIED:20260323T023320Z
UID:6537-1776452400-1776463200@frankstonbrewhouse.com.au
SUMMARY:Drag Bingo
DESCRIPTION:Get ready for a dazzling night of sparkle\, glitz and glamour at Frankston Brewhouse Drag Bingo! Join us on Friday\, 17 April at 7PM with your favourite host Brenda Bressed. \nThis incredible evening is a FREE event! Mark your calendars\, and join us for dinner before the show. Bookings are essential. \nSee you there\, darlings!
URL:https://frankstonbrewhouse.com.au/event/drag-bingo/
LOCATION:Frankston Brewhouse\, 10 New Street\, Frankston\, Victoria\, 3199\, Australia
CATEGORIES:Drag Bingo
ATTACH;FMTTYPE=image/png:https://frankstonbrewhouse.com.au/wp/wp-content/uploads/2025/12/Event-Tile.png
END:VEVENT
END:VCALENDAR