BEGIN:VCALENDAR
VERSION:2.0
PRODID:-//Frankston Brewhouse - ECPv6.15.8//NONSGML v1.0//EN
CALSCALE:GREGORIAN
METHOD:PUBLISH
X-WR-CALNAME:Frankston Brewhouse
X-ORIGINAL-URL:https://frankstonbrewhouse.com.au
X-WR-CALDESC:Events for Frankston Brewhouse
REFRESH-INTERVAL;VALUE=DURATION:PT1H
X-Robots-Tag:noindex
X-PUBLISHED-TTL:PT1H
BEGIN:VTIMEZONE
TZID:Australia/Melbourne
BEGIN:STANDARD
TZOFFSETFROM:+1100
TZOFFSETTO:+1000
TZNAME:AEST
DTSTART:20250405T160000
END:STANDARD
BEGIN:DAYLIGHT
TZOFFSETFROM:+1000
TZOFFSETTO:+1100
TZNAME:AEDT
DTSTART:20251004T160000
END:DAYLIGHT
BEGIN:STANDARD
TZOFFSETFROM:+1100
TZOFFSETTO:+1000
TZNAME:AEST
DTSTART:20260404T160000
END:STANDARD
BEGIN:DAYLIGHT
TZOFFSETFROM:+1000
TZOFFSETTO:+1100
TZNAME:AEDT
DTSTART:20261003T160000
END:DAYLIGHT
BEGIN:STANDARD
TZOFFSETFROM:+1100
TZOFFSETTO:+1000
TZNAME:AEST
DTSTART:20270403T160000
END:STANDARD
BEGIN:DAYLIGHT
TZOFFSETFROM:+1000
TZOFFSETTO:+1100
TZNAME:AEDT
DTSTART:20271002T160000
END:DAYLIGHT
END:VTIMEZONE
BEGIN:VEVENT
DTSTART;TZID=Australia/Melbourne:20260425T120000
DTEND;TZID=Australia/Melbourne:20260425T130000
DTSTAMP:20260423T001723
CREATED:20250519T034737Z
LAST-MODIFIED:20260407T044341Z
UID:6326-1777118400-1777122000@frankstonbrewhouse.com.au
SUMMARY:Guided Brewery Tour
DESCRIPTION:Ever wondered how your favourite beers are made? Join us for a behind-the-scenes look at Frankston Brewhouse! \nOur team will take you on a free guided tour through the brewery\, sharing how we craft each brew from grain to glass. Ask questions\, learn a little\, and enjoy a complimentary tasting paddle valued at $20! \nAfter the 45 minute tour\, stay to enjoy the beers and some delicious food.
URL:https://frankstonbrewhouse.com.au/event/guided-brewery-tour/
LOCATION:Frankston Brewhouse\, 10 New Street\, Frankston\, Victoria\, 3199\, Australia
CATEGORIES:Beer Tasting,Brewery Tour
ATTACH;FMTTYPE=image/png:https://frankstonbrewhouse.com.au/wp/wp-content/uploads/2025/05/Brewery-Tour-Display-Screen-2026.png
END:VEVENT
END:VCALENDAR